BEGIN:VCALENDAR
VERSION:2.0
PRODID:Leilão de Oferendas para angariação de fundos para a festa em Hon
 ra de Nossa Senhora Do Amparo 2025
X-WR-CALNAME:Leilão de Oferendas para angariação de fundos para a festa 
 em Honra de Nossa Senhora Do Amparo 2025
X-WR-TIMEZONE:Europe/Lisbon
X-PUBLISHED-TTL:P1W
BEGIN:VTIMEZONE
TZID:Europe/Lisbon
X-LIC-LOCATION:Europe/Lisbon
END:VTIMEZONE
BEGIN:VEVENT
UID:69ecc5b00f153
DTSTART;VALUE=DATE:20250518
SEQUENCE:0
TRANSP:OPAQUE
DTEND;VALUE=DATE:20250519
SUMMARY:Leilão de Oferendas para angariação de fundos para a festa em Ho
 nra de Nossa Senhora Do Amparo 2025
CLASS:PUBLIC
X-MICROSOFT-CDO-ALLDAYEVENT:TRUE
DTSTAMP:20260425T134624Z
END:VEVENT
END:VCALENDAR