BEGIN:VCALENDAR
VERSION:2.0
PRODID:Almoço - Convívio para a angariação de fundos para as Festas em 
 honra de São Sebastião e Nossa Senhora do Amparo
X-WR-CALNAME:Almoço - Convívio para a angariação de fundos para as Fest
 as em honra de São Sebastião e Nossa Senhora do Amparo
X-WR-TIMEZONE:Europe/Lisbon
X-PUBLISHED-TTL:P1W
BEGIN:VTIMEZONE
TZID:Europe/Lisbon
X-LIC-LOCATION:Europe/Lisbon
END:VTIMEZONE
BEGIN:VEVENT
UID:69e7031e41e55
DTSTART;VALUE=DATE:20250525
SEQUENCE:0
TRANSP:OPAQUE
DTEND;VALUE=DATE:20250526
SUMMARY:Almoço - Convívio para a angariação de fundos para as Festas em
  honra de São Sebastião e Nossa Senhora do Amparo
CLASS:PUBLIC
X-MICROSOFT-CDO-ALLDAYEVENT:TRUE
DTSTAMP:20260421T045454Z
END:VEVENT
END:VCALENDAR